BEGIN:VCALENDAR
VERSION:2.0
PRODID:-//Sea-Tac Noise Info//Event Calendar//EN
CALSCALE:GREGORIAN
METHOD:PUBLISH
BEGIN:VEVENT
UID:22694@seatacnoise.info
DTSTAMP:20260424T001941Z
DTSTART:20241024T020011Z
DTEND:20241024T020011Z
SUMMARY:StART October 23, 2024
STATUS:CONFIRMED
END:VEVENT
END:VCALENDAR
