BEGIN:VCALENDAR
VERSION:2.0
PRODID:-//Sea-Tac Noise Info//Event Calendar//EN
CALSCALE:GREGORIAN
METHOD:PUBLISH
BEGIN:VEVENT
UID:22259@seatacnoise.info
DTSTAMP:20260423T145136Z
DTSTART:20241003T180040Z
DTEND:20241003T180040Z
SUMMARY:Commercial Aviation Workgroup Second Meeting
STATUS:CONFIRMED
END:VEVENT
END:VCALENDAR
