BEGIN:VCALENDAR
VERSION:2.0
PRODID:-//Sea-Tac Noise Info//Event Calendar//EN
CALSCALE:GREGORIAN
METHOD:PUBLISH
BEGIN:VEVENT
UID:21917@seatacnoise.info
DTSTAMP:20260423T104748Z
DTSTART:20240905T170018Z
DTEND:20240905T170018Z
SUMMARY:Port of Seattle Commission SAMP Study Session
STATUS:CONFIRMED
END:VEVENT
END:VCALENDAR
