BEGIN:VCALENDAR
VERSION:2.0
PRODID:-//Sea-Tac Noise Info//Event Calendar//EN
CALSCALE:GREGORIAN
METHOD:PUBLISH
BEGIN:VEVENT
UID:20915@seatacnoise.info
DTSTAMP:20260423T172659Z
DTSTART:20240608T170048Z
DTEND:20240608T170048Z
SUMMARY:Part 150 Noise Study Workshop (3)!
STATUS:CONFIRMED
END:VEVENT
END:VCALENDAR
