BEGIN:VCALENDAR
VERSION:2.0
PRODID:-//Sea-Tac Noise Info//Event Calendar//EN
CALSCALE:GREGORIAN
METHOD:PUBLISH
BEGIN:VEVENT
UID:20913@seatacnoise.info
DTSTAMP:20260423T145135Z
DTSTART:20240607T010031Z
DTEND:20240607T010031Z
SUMMARY:Part 150 Noise Study Workshop (2)!
STATUS:CONFIRMED
END:VEVENT
END:VCALENDAR
