BEGIN:VCALENDAR
VERSION:2.0
PRODID:-//Sea-Tac Noise Info//Event Calendar//EN
CALSCALE:GREGORIAN
METHOD:PUBLISH
BEGIN:VEVENT
UID:20884@seatacnoise.info
DTSTAMP:20260423T161241Z
DTSTART:20240606T010026Z
DTEND:20240606T010026Z
SUMMARY:Part 150 Noise Study Workshops!
STATUS:CONFIRMED
END:VEVENT
END:VCALENDAR
