BEGIN:VCALENDAR
VERSION:2.0
PRODID:-//Sea-Tac Noise Info//Event Calendar//EN
CALSCALE:GREGORIAN
METHOD:PUBLISH
BEGIN:VEVENT
UID:19000@seatacnoise.info
DTSTAMP:20260423T114853Z
DTSTART:20240116T160021Z
DTEND:20240116T160021Z
SUMMARY:Testify for Port Package Updates!
STATUS:CONFIRMED
END:VEVENT
END:VCALENDAR
