BEGIN:VCALENDAR
VERSION:2.0
PRODID:-//Sea-Tac Noise Info//Event Calendar//EN
CALSCALE:GREGORIAN
METHOD:PUBLISH
BEGIN:VEVENT
UID:18861@seatacnoise.info
DTSTAMP:20260424T035106Z
DTSTART:20240115T080046Z
DTEND:20240115T080046Z
SUMMARY:Apply today for StART membership
STATUS:CONFIRMED
END:VEVENT
END:VCALENDAR
