BEGIN:VCALENDAR
VERSION:2.0
PRODID:-//Sea-Tac Noise Info//Event Calendar//EN
CALSCALE:GREGORIAN
METHOD:PUBLISH
BEGIN:VEVENT
UID:15673@seatacnoise.info
DTSTAMP:20260424T034653Z
DTSTART:20230929T070033Z
DTEND:20230929T070033Z
SUMMARY:FAA Noise Policy Review
STATUS:CONFIRMED
END:VEVENT
END:VCALENDAR
