BEGIN:VCALENDAR
VERSION:2.0
PRODID:-//Sea-Tac Noise Info//Event Calendar//EN
CALSCALE:GREGORIAN
METHOD:PUBLISH
BEGIN:VEVENT
UID:17979@seatacnoise.info
DTSTAMP:20260423T114851Z
DTSTART:20230817T000027Z
DTEND:20230817T000027Z
SUMMARY:Advanced Air Mobility Request for Public Comment
STATUS:CONFIRMED
END:VEVENT
END:VCALENDAR
