BEGIN:VCALENDAR
VERSION:2.0
PRODID:-//Sea-Tac Noise Info//Event Calendar//EN
CALSCALE:GREGORIAN
METHOD:PUBLISH
BEGIN:VEVENT
UID:11710@seatacnoise.info
DTSTAMP:20260423T132104Z
DTSTART:20230428T064308Z
DTEND:20230428T064308Z
SUMMARY:FAA Boston Area Communities Public Airspace Workshop
STATUS:CONFIRMED
END:VEVENT
END:VCALENDAR
