BEGIN:VCALENDAR
VERSION:2.0
PRODID:-//Sea-Tac Noise Info//Event Calendar//EN
CALSCALE:GREGORIAN
METHOD:PUBLISH
BEGIN:VEVENT
UID:5960@seatacnoise.info
DTSTAMP:20260424T054925Z
DTSTART:20200924T000003Z
DTEND:20200924T000003Z
SUMMARY:PSRC Regional Aviation Baseline Study  Public Meeting
STATUS:CONFIRMED
END:VEVENT
END:VCALENDAR
