BEGIN:VCALENDAR
VERSION:2.0
PRODID:-//Sea-Tac Noise Info//Event Calendar//EN
CALSCALE:GREGORIAN
METHOD:PUBLISH
BEGIN:VEVENT
UID:5982@seatacnoise.info
DTSTAMP:20260424T053332Z
DTSTART:20200922T160020Z
DTEND:20200922T160020Z
SUMMARY:Port Of Seattle Commission Study Session
STATUS:CONFIRMED
END:VEVENT
END:VCALENDAR
