BEGIN:VCALENDAR
VERSION:2.0
PRODID:-//Sea-Tac Noise Info//Event Calendar//EN
CALSCALE:GREGORIAN
METHOD:PUBLISH
BEGIN:VEVENT
UID:5948@seatacnoise.info
DTSTAMP:20260423T161243Z
DTSTART:20200908T190049Z
DTEND:20200908T190049Z
SUMMARY:Port Of Seattle Commission Meeting
STATUS:CONFIRMED
END:VEVENT
END:VCALENDAR
