BEGIN:VCALENDAR
VERSION:2.0
PRODID:-//Sea-Tac Noise Info//Event Calendar//EN
CALSCALE:GREGORIAN
METHOD:PUBLISH
BEGIN:VEVENT
UID:5799@seatacnoise.info
DTSTAMP:20260424T053649Z
DTSTART:20200722T213043Z
DTEND:20200722T213043Z
SUMMARY:Highline Forum (virtual Meeting)
STATUS:CONFIRMED
END:VEVENT
END:VCALENDAR
