BEGIN:VCALENDAR
VERSION:2.0
PRODID:-//Sea-Tac Noise Info//Event Calendar//EN
CALSCALE:GREGORIAN
METHOD:PUBLISH
BEGIN:VEVENT
UID:5812@seatacnoise.info
DTSTAMP:20260423T161241Z
DTSTART:20200722T010023Z
DTEND:20200722T010023Z
SUMMARY:Burien Airport Committee
STATUS:CONFIRMED
END:VEVENT
END:VCALENDAR
