BEGIN:VCALENDAR
VERSION:2.0
PRODID:-//Sea-Tac Noise Info//Event Calendar//EN
CALSCALE:GREGORIAN
METHOD:PUBLISH
BEGIN:VEVENT
UID:5762@seatacnoise.info
DTSTAMP:20260423T160426Z
DTSTART:20200625T000056Z
DTEND:20200625T000056Z
SUMMARY:Sea-Tac Advisory Round Table Meeting StART
STATUS:CONFIRMED
END:VEVENT
END:VCALENDAR
