BEGIN:VCALENDAR
VERSION:2.0
PRODID:-//Sea-Tac Noise Info//Event Calendar//EN
CALSCALE:GREGORIAN
METHOD:PUBLISH
BEGIN:VEVENT
UID:5657@seatacnoise.info
DTSTAMP:20260424T051011Z
DTSTART:20200512T190028Z
DTEND:20200512T190028Z
SUMMARY:Port Of Seattle General Commission Meeting
STATUS:CONFIRMED
END:VEVENT
END:VCALENDAR
