BEGIN:VCALENDAR
VERSION:2.0
PRODID:-//Sea-Tac Noise Info//Event Calendar//EN
CALSCALE:GREGORIAN
METHOD:PUBLISH
BEGIN:VEVENT
UID:5530@seatacnoise.info
DTSTAMP:20260423T132104Z
DTSTART:20200301T191323Z
DTEND:20200301T191323Z
SUMMARY:Aviation Noise &#038; Emissions Symposium 2020
STATUS:CONFIRMED
END:VEVENT
END:VCALENDAR
