BEGIN:VCALENDAR
VERSION:2.0
PRODID:-//Sea-Tac Noise Info//Event Calendar//EN
CALSCALE:GREGORIAN
METHOD:PUBLISH
BEGIN:VEVENT
UID:5493@seatacnoise.info
DTSTAMP:20260424T051351Z
DTSTART:20200227T020032Z
DTEND:20200227T020032Z
SUMMARY:Sea-Tac Stakeholder Advisor Round Table (StART) Meeting
STATUS:CONFIRMED
END:VEVENT
END:VCALENDAR
