BEGIN:VCALENDAR
VERSION:2.0
PRODID:-//Sea-Tac Noise Info//Event Calendar//EN
CALSCALE:GREGORIAN
METHOD:PUBLISH
BEGIN:VEVENT
UID:5474@seatacnoise.info
DTSTAMP:20260423T104748Z
DTSTART:20200225T200055Z
DTEND:20200225T200055Z
SUMMARY:Port of Seattle Meeting
STATUS:CONFIRMED
END:VEVENT
END:VCALENDAR
