BEGIN:VCALENDAR
VERSION:2.0
PRODID:-//Sea-Tac Noise Info//Event Calendar//EN
CALSCALE:GREGORIAN
METHOD:PUBLISH
BEGIN:VEVENT
UID:5365@seatacnoise.info
DTSTAMP:20260423T114852Z
DTSTART:20200123T160010Z
DTEND:20200123T160010Z
SUMMARY:Local Government Hearing on HB2315
STATUS:CONFIRMED
END:VEVENT
END:VCALENDAR
