BEGIN:VCALENDAR
VERSION:2.0
PRODID:-//Sea-Tac Noise Info//Event Calendar//EN
CALSCALE:GREGORIAN
METHOD:PUBLISH
BEGIN:VEVENT
UID:5339@seatacnoise.info
DTSTAMP:20260423T132104Z
DTSTART:20200116T160025Z
DTEND:20200116T160025Z
SUMMARY:SB6214 First Public Hearing
STATUS:CONFIRMED
END:VEVENT
END:VCALENDAR
