BEGIN:VCALENDAR
VERSION:2.0
PRODID:-//Sea-Tac Noise Info//Event Calendar//EN
CALSCALE:GREGORIAN
METHOD:PUBLISH
BEGIN:VEVENT
UID:5328@seatacnoise.info
DTSTAMP:20260424T032134Z
DTSTART:20200109T180044Z
DTEND:20200109T180044Z
SUMMARY:Second Commercial Aviation Coordinating Commission meeting
STATUS:CONFIRMED
END:VEVENT
END:VCALENDAR
