BEGIN:VCALENDAR
VERSION:2.0
PRODID:-//Sea-Tac Noise Info//Event Calendar//EN
CALSCALE:GREGORIAN
METHOD:PUBLISH
BEGIN:VEVENT
UID:5317@seatacnoise.info
DTSTAMP:20260424T051036Z
DTSTART:20200107T200017Z
DTEND:20200107T200017Z
SUMMARY:Port Of Seattle Special Meeting
STATUS:CONFIRMED
END:VEVENT
END:VCALENDAR
