BEGIN:VCALENDAR
VERSION:2.0
PRODID:-//Sea-Tac Noise Info//Event Calendar//EN
CALSCALE:GREGORIAN
METHOD:PUBLISH
BEGIN:VEVENT
UID:5180@seatacnoise.info
DTSTAMP:20260424T051143Z
DTSTART:20191120T223052Z
DTEND:20191120T223052Z
SUMMARY:Highline Forum Meeting
STATUS:CONFIRMED
END:VEVENT
END:VCALENDAR
