BEGIN:VCALENDAR
VERSION:2.0
PRODID:-//Sea-Tac Noise Info//Event Calendar//EN
CALSCALE:GREGORIAN
METHOD:PUBLISH
BEGIN:VEVENT
UID:5114@seatacnoise.info
DTSTAMP:20260423T132105Z
DTSTART:20191107T030022Z
DTEND:20191107T030022Z
SUMMARY:Commerce Study Public Meeting
STATUS:CONFIRMED
END:VEVENT
END:VCALENDAR
