BEGIN:VCALENDAR
VERSION:2.0
PRODID:-//Sea-Tac Noise Info//Event Calendar//EN
CALSCALE:GREGORIAN
METHOD:PUBLISH
BEGIN:VEVENT
UID:5086@seatacnoise.info
DTSTAMP:20260424T014218Z
DTSTART:20191024T010008Z
DTEND:20191024T010008Z
SUMMARY:Sea-Tac Aviation Roundtable (START) Meeting
STATUS:CONFIRMED
END:VEVENT
END:VCALENDAR
