BEGIN:VCALENDAR
VERSION:2.0
PRODID:-//Sea-Tac Noise Info//Event Calendar//EN
CALSCALE:GREGORIAN
METHOD:PUBLISH
BEGIN:VEVENT
UID:5088@seatacnoise.info
DTSTAMP:20260424T014156Z
DTSTART:20191022T190021Z
DTEND:20191022T190021Z
SUMMARY:Port Of Seattle General Meeting
STATUS:CONFIRMED
END:VEVENT
END:VCALENDAR
