BEGIN:VCALENDAR
VERSION:2.0
PRODID:-//Sea-Tac Noise Info//Event Calendar//EN
CALSCALE:GREGORIAN
METHOD:PUBLISH
BEGIN:VEVENT
UID:5072@seatacnoise.info
DTSTAMP:20260424T031900Z
DTSTART:20191008T190003Z
DTEND:20191008T190003Z
SUMMARY:Port Of Seattle General Meeting
STATUS:CONFIRMED
END:VEVENT
END:VCALENDAR
