BEGIN:VCALENDAR
VERSION:2.0
PRODID:-//Sea-Tac Noise Info//Event Calendar//EN
CALSCALE:GREGORIAN
METHOD:PUBLISH
BEGIN:VEVENT
UID:4965@seatacnoise.info
DTSTAMP:20260423T114855Z
DTSTART:20190925T213024Z
DTEND:20190925T213024Z
SUMMARY:Highline Forum Meeting &#8211; Tukwila
STATUS:CONFIRMED
END:VEVENT
END:VCALENDAR
