BEGIN:VCALENDAR
VERSION:2.0
PRODID:-//Sea-Tac Noise Info//Event Calendar//EN
CALSCALE:GREGORIAN
METHOD:PUBLISH
BEGIN:VEVENT
UID:4961@seatacnoise.info
DTSTAMP:20260423T114854Z
DTSTART:20190920T010039Z
DTEND:20190920T010039Z
SUMMARY:League Of Quiet Skies Voters Port Candidates Forum
STATUS:CONFIRMED
END:VEVENT
END:VCALENDAR
