BEGIN:VCALENDAR
VERSION:2.0
PRODID:-//Sea-Tac Noise Info//Event Calendar//EN
CALSCALE:GREGORIAN
METHOD:PUBLISH
BEGIN:VEVENT
UID:4826@seatacnoise.info
DTSTAMP:20260424T001448Z
DTSTART:20190918T010005Z
DTEND:20190918T010005Z
SUMMARY:Burien Airport Committee
STATUS:CONFIRMED
END:VEVENT
END:VCALENDAR
