BEGIN:VCALENDAR
VERSION:2.0
PRODID:-//Sea-Tac Noise Info//Event Calendar//EN
CALSCALE:GREGORIAN
METHOD:PUBLISH
BEGIN:VEVENT
UID:4747@seatacnoise.info
DTSTAMP:20260424T001319Z
DTSTART:20190829T010046Z
DTEND:20190829T010046Z
SUMMARY:StART SEA-TAC STAKEHOLDER ADVISORY ROUND TABLE Meeting
STATUS:CONFIRMED
END:VEVENT
END:VCALENDAR
