BEGIN:VCALENDAR
VERSION:2.0
PRODID:-//Sea-Tac Noise Info//Event Calendar//EN
CALSCALE:GREGORIAN
METHOD:PUBLISH
BEGIN:VEVENT
UID:4701@seatacnoise.info
DTSTAMP:20260424T001315Z
DTSTART:20190813T190031Z
DTEND:20190813T190031Z
SUMMARY:Port Of Seattle Commission Meeting
STATUS:CONFIRMED
END:VEVENT
END:VCALENDAR
