BEGIN:VCALENDAR
VERSION:2.0
PRODID:-//Sea-Tac Noise Info//Event Calendar//EN
CALSCALE:GREGORIAN
METHOD:PUBLISH
BEGIN:VEVENT
UID:4696@seatacnoise.info
DTSTAMP:20260424T001409Z
DTSTART:20190806T020020Z
DTEND:20190806T020020Z
SUMMARY:Burien City Council Meeting
STATUS:CONFIRMED
END:VEVENT
END:VCALENDAR
