BEGIN:VCALENDAR
VERSION:2.0
PRODID:-//Sea-Tac Noise Info//Event Calendar//EN
CALSCALE:GREGORIAN
METHOD:PUBLISH
BEGIN:VEVENT
UID:4587@seatacnoise.info
DTSTAMP:20260424T001442Z
DTSTART:20190725T010044Z
DTEND:20190725T010044Z
SUMMARY:Public Meeting on Sea-Tac Airport Impact Study July 24 at Tyee High School
STATUS:CONFIRMED
END:VEVENT
END:VCALENDAR
