BEGIN:VCALENDAR
VERSION:2.0
PRODID:-//Sea-Tac Noise Info//Event Calendar//EN
CALSCALE:GREGORIAN
METHOD:PUBLISH
BEGIN:VEVENT
UID:4541@seatacnoise.info
DTSTAMP:20260423T225547Z
DTSTART:20190712T020051Z
DTEND:20190712T020051Z
SUMMARY:Des Moines City Council Meeting
STATUS:CONFIRMED
END:VEVENT
END:VCALENDAR
