BEGIN:VCALENDAR
VERSION:2.0
PRODID:-//Sea-Tac Noise Info//Event Calendar//EN
CALSCALE:GREGORIAN
METHOD:PUBLISH
BEGIN:VEVENT
UID:4534@seatacnoise.info
DTSTAMP:20260423T225426Z
DTSTART:20190709T190054Z
DTEND:20190709T190054Z
SUMMARY:Port Of Seattle Commission Meeting
STATUS:CONFIRMED
END:VEVENT
END:VCALENDAR
