BEGIN:VCALENDAR
VERSION:2.0
PRODID:-//Sea-Tac Noise Info//Event Calendar//EN
CALSCALE:GREGORIAN
METHOD:PUBLISH
BEGIN:VEVENT
UID:4430@seatacnoise.info
DTSTAMP:20260423T230234Z
DTSTART:20190628T180050Z
DTEND:20190628T180050Z
SUMMARY:Port Of Seattle Audit Meeting
STATUS:CONFIRMED
END:VEVENT
END:VCALENDAR
