BEGIN:VCALENDAR
VERSION:2.0
PRODID:-//Sea-Tac Noise Info//Event Calendar//EN
CALSCALE:GREGORIAN
METHOD:PUBLISH
BEGIN:VEVENT
UID:4006@seatacnoise.info
DTSTAMP:20260423T225451Z
DTSTART:20190614T230010Z
DTEND:20190614T230010Z
SUMMARY:Grand Opening for new Highline Heritage Museum is June 14
STATUS:CONFIRMED
END:VEVENT
END:VCALENDAR
