BEGIN:VCALENDAR
VERSION:2.0
PRODID:-//Sea-Tac Noise Info//Event Calendar//EN
CALSCALE:GREGORIAN
METHOD:PUBLISH
BEGIN:VEVENT
UID:4291@seatacnoise.info
DTSTAMP:20260423T225451Z
DTSTART:20190607T020044Z
DTEND:20190607T020044Z
SUMMARY:Des Moines City Council Meeting
STATUS:CONFIRMED
END:VEVENT
END:VCALENDAR
