BEGIN:VCALENDAR
VERSION:2.0
PRODID:-//Sea-Tac Noise Info//Event Calendar//EN
CALSCALE:GREGORIAN
METHOD:PUBLISH
BEGIN:VEVENT
UID:4238@seatacnoise.info
DTSTAMP:20260423T224835Z
DTSTART:20190528T190013Z
DTEND:20190528T190013Z
SUMMARY:Port Of Seattle Regular Meeting
STATUS:CONFIRMED
END:VEVENT
END:VCALENDAR
