BEGIN:VCALENDAR
VERSION:2.0
PRODID:-//Sea-Tac Noise Info//Event Calendar//EN
CALSCALE:GREGORIAN
METHOD:PUBLISH
BEGIN:VEVENT
UID:4235@seatacnoise.info
DTSTAMP:20260423T121003Z
DTSTART:20190522T213054Z
DTEND:20190522T213054Z
SUMMARY:Highline Forum
STATUS:CONFIRMED
END:VEVENT
END:VCALENDAR
