BEGIN:VCALENDAR
VERSION:2.0
PRODID:-//Sea-Tac Noise Info//Event Calendar//EN
CALSCALE:GREGORIAN
METHOD:PUBLISH
BEGIN:VEVENT
UID:4138@seatacnoise.info
DTSTAMP:20260423T212445Z
DTSTART:20190522T010040Z
DTEND:20190522T010040Z
SUMMARY:Burien Airport Committee
STATUS:CONFIRMED
END:VEVENT
END:VCALENDAR
