BEGIN:VCALENDAR
VERSION:2.0
PRODID:-//Sea-Tac Noise Info//Event Calendar//EN
CALSCALE:GREGORIAN
METHOD:PUBLISH
BEGIN:VEVENT
UID:4135@seatacnoise.info
DTSTAMP:20260423T212522Z
DTSTART:20190521T010044Z
DTEND:20190521T010044Z
SUMMARY:City Of SeaTac Airport Advisory Committee
STATUS:CONFIRMED
END:VEVENT
END:VCALENDAR
