BEGIN:VCALENDAR
VERSION:2.0
PRODID:-//Sea-Tac Noise Info//Event Calendar//EN
CALSCALE:GREGORIAN
METHOD:PUBLISH
BEGIN:VEVENT
UID:3938@seatacnoise.info
DTSTAMP:20260423T212359Z
DTSTART:20190426T010037Z
DTEND:20190426T010037Z
SUMMARY:League Of Quiet Skies Voter Town Hall
STATUS:CONFIRMED
END:VEVENT
END:VCALENDAR
