BEGIN:VCALENDAR
VERSION:2.0
PRODID:-//Sea-Tac Noise Info//Event Calendar//EN
CALSCALE:GREGORIAN
METHOD:PUBLISH
BEGIN:VEVENT
UID:4042@seatacnoise.info
DTSTAMP:20260423T224901Z
DTSTART:20190417T010040Z
DTEND:20190417T010040Z
SUMMARY:Burien Airport Committee
STATUS:CONFIRMED
END:VEVENT
END:VCALENDAR
