BEGIN:VCALENDAR
VERSION:2.0
PRODID:-//Sea-Tac Noise Info//Event Calendar//EN
CALSCALE:GREGORIAN
METHOD:PUBLISH
BEGIN:VEVENT
UID:4025@seatacnoise.info
DTSTAMP:20260423T132106Z
DTSTART:20190416T160007Z
DTEND:20190416T160007Z
SUMMARY:SCATBd Meeting
STATUS:CONFIRMED
END:VEVENT
END:VCALENDAR
