BEGIN:VCALENDAR
VERSION:2.0
PRODID:-//Sea-Tac Noise Info//Event Calendar//EN
CALSCALE:GREGORIAN
METHOD:PUBLISH
BEGIN:VEVENT
UID:3758@seatacnoise.info
DTSTAMP:20260423T200522Z
DTSTART:20190326T190028Z
DTEND:20190326T190028Z
SUMMARY:Port Of Seattle Regular Meeting
STATUS:CONFIRMED
END:VEVENT
END:VCALENDAR
